Workbook

Sheet Dane
A1: id | B1: praca | C1: sen_h | D1: pomoc | E1: str_1 | F1: str_2 | G1: str_3 | H1: str_4 | I1: stres | J1: ranga_sen | K1: ranga_stres
A2: 1 | B2: 1 | C2: 6.5 | D2: 0 | E2: 2 | F2: 2 | G2: 3 | H2: 3 | I2: =AVERAGE(E2:H2) | J2: =_xlfn.RANK.AVG(C2,$C$2:$C$61,1) | K2: =_xlfn.RANK.AVG(I2,$I$2:$I$61,1)
A3: 2 | B3: 1 | C3: 5.5 | D3: 1 | E3: 4 | F3: 5 | G3: 5 | H3: 5 | I3: =AVERAGE(E3:H3) | J3: =_xlfn.RANK.AVG(C3,$C$2:$C$61,1) | K3: =_xlfn.RANK.AVG(I3,$I$2:$I$61,1)
A4: 3 | B4: 1 | C4: 7.5 | D4: 0 | E4: 2 | F4: 3 | G4: 3 | H4: 3 | I4: =AVERAGE(E4:H4) | J4: =_xlfn.RANK.AVG(C4,$C$2:$C$61,1) | K4: =_xlfn.RANK.AVG(I4,$I$2:$I$61,1)
A5: 4 | B5: 1 | C5: 7 | D5: 0 | E5: 2 | F5: 3 | G5: 3 | H5: 3 | I5: =AVERAGE(E5:H5) | J5: =_xlfn.RANK.AVG(C5,$C$2:$C$61,1) | K5: =_xlfn.RANK.AVG(I5,$I$2:$I$61,1)
A6: 5 | B6: 1 | C6: 6 | D6: 1 | E6: 3 | F6: 5 | G6: 3 | H6: 4 | I6: =AVERAGE(E6:H6) | J6: =_xlfn.RANK.AVG(C6,$C$2:$C$61,1) | K6: =_xlfn.RANK.AVG(I6,$I$2:$I$61,1)
A7: 6 | B7: 1 | C7: 5.5 | D7: 0 | E7: 3 | F7: 3 | G7: 4 | H7: 4 | I7: =AVERAGE(E7:H7) | J7: =_xlfn.RANK.AVG(C7,$C$2:$C$61,1) | K7: =_xlfn.RANK.AVG(I7,$I$2:$I$61,1)
A8: 7 | B8: 1 | C8: 7 | D8: 0 | E8: 4 | F8: 4 | G8: 3 | H8: 3 | I8: =AVERAGE(E8:H8) | J8: =_xlfn.RANK.AVG(C8,$C$2:$C$61,1) | K8: =_xlfn.RANK.AVG(I8,$I$2:$I$61,1)
A9: 8 | B9: 1 | C9: 6 | D9: 0 | E9: 4 | F9: 4 | G9: 4 | H9: 4 | I9: =AVERAGE(E9:H9) | J9: =_xlfn.RANK.AVG(C9,$C$2:$C$61,1) | K9: =_xlfn.RANK.AVG(I9,$I$2:$I$61,1)
A10: 9 | B10: 1 | C10: 8 | D10: 1 | E10: 2 | F10: 2 | G10: 3 | H10: 2 | I10: =AVERAGE(E10:H10) | J10: =_xlfn.RANK.AVG(C10,$C$2:$C$61,1) | K10: =_xlfn.RANK.AVG(I10,$I$2:$I$61,1)
A11: 10 | B11: 1 | C11: 7 | D11: 0 | E11: 3 | F11: 3 | G11: 3 | H11: 4 | I11: =AVERAGE(E11:H11) | J11: =_xlfn.RANK.AVG(C11,$C$2:$C$61,1) | K11: =_xlfn.RANK.AVG(I11,$I$2:$I$61,1)
A12: 11 | B12: 1 | C12: 7 | D12: 0 | E12: 2 | F12: 2 | G12: 3 | H12: 2 | I12: =AVERAGE(E12:H12) | J12: =_xlfn.RANK.AVG(C12,$C$2:$C$61,1) | K12: =_xlfn.RANK.AVG(I12,$I$2:$I$61,1)
A13: 12 | B13: 1 | C13: 5.5 | D13: 0 | E13: 3 | F13: 4 | G13: 3 | H13: 3 | I13: =AVERAGE(E13:H13) | J13: =_xlfn.RANK.AVG(C13,$C$2:$C$61,1) | K13: =_xlfn.RANK.AVG(I13,$I$2:$I$61,1)
... A61: 60 | B61: 0 | C61: 9 | D61: 0 | E61: 2 | F61: 2 | G61: 2 | H61: 4 | I61: =AVERAGE(E61:H61) | J61: =_xlfn.RANK.AVG(C61,$C$2:$C$61,1) | K61: =_xlfn.RANK.AVG(I61,$I$2:$I$61,1)

Sheet Analizy
A1: Analiza statystyczna w Excelu – przykład (dane symulowane, N = 60)
A2: Kolumna B: wynik formuły. Kolumna C: ta sama formuła w polskiej wersji Excela. Kolumna D: wynik tej samej analizy policzony w R (do porównania).
G3: Liczebności obserwowane
A4: Statystyka | B4: Wynik (formuła) | C4: Formuła w polskim Excelu | D4: Wynik w R | E4: Uwagi | H4: pomoc = 0 (nie) | I4: pomoc = 1 (tak) | J4: Razem
A5: 1. Statystyki opisowe: stres (średnia 4 pozycji, skala 1–5) | G5: pracujący | H5: =COUNTIFS(Dane!$B$2:$B$61,1,Dane!$D$2:$D$61,0) | I5: =COUNTIFS(Dane!$B$2:$B$61,1,Dane!$D$2:$D$61,1) | J5: =SUM(H5:I5)
A6: N (cała próba) | B6: =COUNT(Dane!I2:I61) | C6: =ILE.LICZB(Dane!I2:I61) | D6: 60 | G6: niepracujący | H6: =COUNTIFS(Dane!$B$2:$B$61,0,Dane!$D$2:$D$61,0) | I6: =COUNTIFS(Dane!$B$2:$B$61,0,Dane!$D$2:$D$61,1) | J6: =SUM(H6:I6)
A7: M | B7: =AVERAGE(Dane!I2:I61) | C7: =ŚREDNIA(Dane!I2:I61) | D7: 3.0208333 | G7: Razem | H7: =SUM(H5:H6) | I7: =SUM(I5:I6) | J7: =SUM(H7:I7)
A8: SD (próbkowe) | B8: =_xlfn.STDEV.S(Dane!I2:I61) | C8: =ODCH.STANDARD.PRÓBKI(Dane!I2:I61) | D8: 0.74403228
A9: Mediana | B9: =MEDIAN(Dane!I2:I61) | C9: =MEDIANA(Dane!I2:I61) | D9: 2.75 | G9: Liczebności oczekiwane (suma wiersza × suma kolumny / N)
A10: Q1 – KWARTYL.PRZEDZ.ZAMK | B10: =_xlfn.QUARTILE.INC(Dane!I2:I61,1) | C10: =KWARTYL.PRZEDZ.ZAMK(Dane!I2:I61;1) | D10: 2.5 | E10: R: quantile(type = 7) | H10: pomoc = 0 (nie) | I10: pomoc = 1 (tak)
A11: Q3 – KWARTYL.PRZEDZ.ZAMK | B11: =_xlfn.QUARTILE.INC(Dane!I2:I61,3) | C11: =KWARTYL.PRZEDZ.ZAMK(Dane!I2:I61;3) | D11: 3.5 | E11: R: quantile(type = 7) | G11: pracujący | H11: =$J5*H$7/$J$7 | I11: =$J5*I$7/$J$7
A12: Q1 – KWARTYL.PRZEDZ.OTW | B12: =_xlfn.QUARTILE.EXC(Dane!I2:I61,1) | C12: =KWARTYL.PRZEDZ.OTW(Dane!I2:I61;1) | D12: 2.5 | E12: R: quantile(type = 6) | G12: niepracujący | H12: =$J6*H$7/$J$7 | I12: =$J6*I$7/$J$7
A13: Q3 – KWARTYL.PRZEDZ.OTW | B13: =_xlfn.QUARTILE.EXC(Dane!I2:I61,3) | C13: =KWARTYL.PRZEDZ.OTW(Dane!I2:I61;3) | D13: 3.5 | E13: R: quantile(type = 6)
A14: Minimum | B14: =MIN(Dane!I2:I61) | C14: =MIN(Dane!I2:I61) | D14: 2 | G14: Przykład formuły w polskim Excelu: =LICZ.WARUNKI(Dane!$B$2:$B$61;1;Dane!$D$2:$D$61;0)
A15: Maksimum | B15: =MAX(Dane!I2:I61) | C15: =MAX(Dane!I2:I61) | D15: 5
A16: Skośność | B16: =SKEW(Dane!I2:I61) | C16: =SKOŚNOŚĆ(Dane!I2:I61) | D16: 1.0099017
A17: Kurtoza (nadwyżka) | B17: =KURT(Dane!I2:I61) | C17: =KURTOZA(Dane!I2:I61) | D17: 0.62285079
A18: n – pracujący (praca = 1) | B18: =COUNTIF(Dane!B2:B61,1) | C18: =LICZ.JEŻELI(Dane!B2:B61;1) | D18: 24
A19: n – niepracujący (praca = 0) | B19: =COUNTIF(Dane!B2:B61,0) | C19: =LICZ.JEŻELI(Dane!B2:B61;0) | D19: 36
A20: M – pracujący | B20: =AVERAGEIF(Dane!B2:B61,1,Dane!I2:I61) | C20: =ŚREDNIA.JEŻELI(Dane!B2:B61;1;Dane!I2:I61) | D20: 3.2916667
A21: M – niepracujący | B21: =AVERAGEIF(Dane!B2:B61,0,Dane!I2:I61) | C21: =ŚREDNIA.JEŻELI(Dane!B2:B61;0;Dane!I2:I61) | D21: 2.8402778
A22: SD – pracujący (wiersze 2–25) | B22: =_xlfn.STDEV.S(Dane!I2:I25) | C22: =ODCH.STANDARD.PRÓBKI(Dane!I2:I25) | D22: 0.92274009
A23: SD – niepracujący (wiersze 26–61) | B23: =_xlfn.STDEV.S(Dane!I26:I61) | C23: =ODCH.STANDARD.PRÓBKI(Dane!I26:I61) | D23: 0.53835987
A24: Q3 – pracujący – KWARTYL.PRZEDZ.ZAMK | B24: =_xlfn.QUARTILE.INC(Dane!I2:I25,3) | C24: =KWARTYL.PRZEDZ.ZAMK(Dane!I2:I25;3) | D24: 3.8125 | E24: R: quantile(type = 7)
A25: Q3 – pracujący – KWARTYL.PRZEDZ.OTW | B25: =_xlfn.QUARTILE.EXC(Dane!I2:I25,3) | C25: =KWARTYL.PRZEDZ.OTW(Dane!I2:I25;3) | D25: 3.9375 | E25: R: quantile(type = 6)
A26: 2. Test t dla prób niezależnych: stres pracujących i niepracujących
A27: p – test t Studenta (typ 2) | B27: =_xlfn.T.TEST(Dane!I2:I25,Dane!I26:I61,2,2) | C27: =T.TEST(Dane!I2:I25;Dane!I26:I61;2;2) | D27: 0.019989723 | E27: równe wariancje
A28: p – test t Welcha (typ 3) | B28: =_xlfn.T.TEST(Dane!I2:I25,Dane!I26:I61,2,3) | C28: =T.TEST(Dane!I2:I25;Dane!I26:I61;2;3) | D28: 0.037728579 | E28: nierówne wariancje – wybór domyślny
A29: Różnica średnich | B29: =B20-B21 | C29: =B20-B21 | D29: 0.45138889
A30: SE różnicy (Welch) | B30: =SQRT(B22^2/B18+B23^2/B19) | C30: =PIERWIASTEK(B22^2/B18+B23^2/B19) | D30: 0.20863347
A31: t Welcha | B31: =B29/B30 | C31: =B29/B30 | D31: 2.1635498
A32: df Welcha (Welch–Satterthwaite) | B32: =(B22^2/B18+B23^2/B19)^2/((B22^2/B18)^2/(B18-1)+(B23^2/B19)^2/(B19-1)) | C32: =(B22^2/B18+B23^2/B19)^2/((B22^2/B18)^2/(B18-1)+(B23^2/B19)^2/(B19-1)) | D32: 33.489964
A33: t krytyczne (95%) | B33: =_xlfn.T.INV.2T(0.05,B32) | C33: =ROZKŁ.T.ODWR.DS(0,05;B32) | D33: 2.0345153 | E33: funkcja obcina df do liczby całkowitej
A34: 95% CI różnicy – dolna granica | B34: =B29-B33*B30 | C34: =B29-B33*B30 | D34: 0.026920907
A35: 95% CI różnicy – górna granica | B35: =B29+B33*B30 | C35: =B29+B33*B30 | D35: 0.87585687
A36: SD łączne | B36: =SQRT(((B18-1)*B22^2+(B19-1)*B23^2)/(B18+B19-2)) | C36: =PIERWIASTEK(((B18-1)*B22^2+(B19-1)*B23^2)/(B18+B19-2)) | D36: 0.71592032
A37: d Cohena | B37: =B29/B36 | C37: =B29/B36 | D37: 0.63050157 | E37: bez przedziału ufności
A38: t Studenta (dla porównania) | B38: =B29/(B36*SQRT(1/B18+1/B19)) | C38: =B29/(B36*PIERWIASTEK(1/B18+1/B19)) | D38: 2.3925852
A39: df Studenta | B39: =B18+B19-2 | C39: =B18+B19-2 | D39: 58
A40: 3. Chi-kwadrat: praca × pomoc psychologiczna (tabele w kolumnach G–J)
A41: p – CHI.TEST | B41: =_xlfn.CHISQ.TEST(H5:I6,H11:I12) | C41: =CHI.TEST(H5:I6;H11:I12) | D41: 0.033894854 | E41: bez poprawki Yatesa
A42: χ² (suma (O − E)²/E) | B42: =SUMPRODUCT((H5:I6-H11:I12)^2/H11:I12) | C42: =SUMA.ILOCZYNÓW((H5:I6-H11:I12)^2/H11:I12) | D42: 4.5
A43: df | B43: =(2-1)*(2-1) | C43: =(2-1)*(2-1) | D43: 1
A44: p z χ² (sprawdzenie) | B44: =_xlfn.CHISQ.DIST.RT(B42,B43) | C44: =ROZKŁ.CHI.PS(B42;B43) | D44: 0.033894854
A45: Najmniejsza liczebność oczekiwana | B45: =MIN(H11:I12) | C45: =MIN(H11:I12) | D45: 4 | E45: < 5: potrzebny test dokładny Fishera
A46: φ (|phi|) | B46: =SQRT(B42/J7) | C46: =PIERWIASTEK(B42/J7) | D46: 0.27386128
A47: p z poprawką Yatesa | C47: – (brak funkcji) | D47: 0.077099872 | E47: brak funkcji w Excelu – wynik z R
A48: p – test dokładny Fishera | C48: – (brak funkcji) | D48: 0.072912755 | E48: brak funkcji w Excelu – wynik z R
A49: 4. Korelacja: sen (godziny) i stres
A50: r Pearsona | B50: =CORREL(Dane!C2:C61,Dane!I2:I61) | C50: =WSP.KORELACJI(Dane!C2:C61;Dane!I2:I61) | D50: -0.43047801
A51: n par | B51: =COUNT(Dane!C2:C61) | C51: =ILE.LICZB(Dane!C2:C61) | D51: 60
A52: t dla r | B52: =B50*SQRT(B51-2)/SQRT(1-B50^2) | C52: =B50*PIERWIASTEK(B51-2)/PIERWIASTEK(1-B50^2) | D52: -3.6321948
A53: p dla r (dwustronne) | B53: =_xlfn.T.DIST.2T(ABS(B52),B51-2) | C53: =ROZKŁ.T.DS(MODUŁ.LICZBY(B52);B51-2) | D53: 0.00059652985
A54: ρ Spearmana (r z rang) | B54: =CORREL(Dane!J2:J61,Dane!K2:K61) | C54: =WSP.KORELACJI(Dane!J2:J61;Dane!K2:K61) | D54: -0.41239596 | E54: rangi: POZYCJA.ŚR w kolumnach J–K
A55: 5. Regresja liniowa: stres ~ praca + sen_h (REGLINP)
A56: Stała (b0) | B56: =INDEX(LINEST(Dane!I2:I61,Dane!B2:C61,TRUE,TRUE),1,3) | C56: =INDEKS(REGLINP(Dane!I2:I61;Dane!B2:C61;PRAWDA;PRAWDA);1;3) | D56: 5.1798925
A57: b – praca | B57: =INDEX(LINEST(Dane!I2:I61,Dane!B2:C61,TRUE,TRUE),1,2) | C57: =INDEKS(REGLINP(Dane!I2:I61;Dane!B2:C61;PRAWDA;PRAWDA);1;2) | D57: 0.23729207
A58: b – sen_h | B58: =INDEX(LINEST(Dane!I2:I61,Dane!B2:C61,TRUE,TRUE),1,1) | C58: =INDEKS(REGLINP(Dane!I2:I61;Dane!B2:C61;PRAWDA;PRAWDA);1;1) | D58: -0.31783445
A59: SE stałej | B59: =INDEX(LINEST(Dane!I2:I61,Dane!B2:C61,TRUE,TRUE),2,3) | C59: =INDEKS(REGLINP(Dane!I2:I61;Dane!B2:C61;PRAWDA;PRAWDA);2;3) | D59: 0.81606462
A60: SE – praca | B60: =INDEX(LINEST(Dane!I2:I61,Dane!B2:C61,TRUE,TRUE),2,2) | C60: =INDEKS(REGLINP(Dane!I2:I61;Dane!B2:C61;PRAWDA;PRAWDA);2;2) | D60: 0.19247671
A61: SE – sen_h | B61: =INDEX(LINEST(Dane!I2:I61,Dane!B2:C61,TRUE,TRUE),2,1) | C61: =INDEKS(REGLINP(Dane!I2:I61;Dane!B2:C61;PRAWDA;PRAWDA);2;1) | D61: 0.10980528
A62: R² | B62: =INDEX(LINEST(Dane!I2:I61,Dane!B2:C61,TRUE,TRUE),3,1) | C62: =INDEKS(REGLINP(Dane!I2:I61;Dane!B2:C61;PRAWDA;PRAWDA);3;1) | D62: 0.20647048
A63: F | B63: =INDEX(LINEST(Dane!I2:I61,Dane!B2:C61,TRUE,TRUE),4,1) | C63: =INDEKS(REGLINP(Dane!I2:I61;Dane!B2:C61;PRAWDA;PRAWDA);4;1) | D63: 7.4154879
A64: df reszt | B64: =INDEX(LINEST(Dane!I2:I61,Dane!B2:C61,TRUE,TRUE),4,2) | C64: =INDEKS(REGLINP(Dane!I2:I61;Dane!B2:C61;PRAWDA;PRAWDA);4;2) | D64: 57
A65: p dla F | B65: =_xlfn.F.DIST.RT(B63,2,B64) | C65: =ROZKŁ.F.PS(B63;2;B64) | D65: 0.0013726128
A66: t – praca | B66: =B57/B60 | C66: =B57/B60 | D66: 1.2328352
A67: p – praca | B67: =_xlfn.T.DIST.2T(ABS(B66),B64) | C67: =ROZKŁ.T.DS(MODUŁ.LICZBY(B66);B64) | D67: 0.22269779
A68: t – sen_h | B68: =B58/B61 | C68: =B58/B61 | D68: -2.8945279
A69: p – sen_h | B69: =_xlfn.T.DIST.2T(ABS(B68),B64) | C69: =ROZKŁ.T.DS(MODUŁ.LICZBY(B68);B64) | D69: 0.0053729193
A70: 6. Alfa Cronbacha: 4 pozycje skali stresu
A71: Wariancja str_1 | B71: =_xlfn.VAR.S(Dane!E2:E61) | C71: =WARIANCJA.PRÓBKI(Dane!E2:E61) | D71: 0.64717514
A72: Wariancja str_2 | B72: =_xlfn.VAR.S(Dane!F2:F61) | C72: =WARIANCJA.PRÓBKI(Dane!F2:F61) | D72: 0.85734463
A73: Wariancja str_3 | B73: =_xlfn.VAR.S(Dane!G2:G61) | C73: =WARIANCJA.PRÓBKI(Dane!G2:G61) | D73: 0.7940678
A74: Wariancja str_4 | B74: =_xlfn.VAR.S(Dane!H2:H61) | C74: =WARIANCJA.PRÓBKI(Dane!H2:H61) | D74: 1.0463277
A75: Wariancja sumy 4 pozycji | B75: =_xlfn.VAR.S(Dane!I2:I61)*16 | C75: =WARIANCJA.PRÓBKI(Dane!I2:I61)*16 | D75: 8.8573446 | E75: stres to średnia, więc suma = 4 × średnia
A76: α Cronbacha | B76: =4/3*(1-SUM(B71,B72,B73,B74)/B75) | C76: =4/3*(1-SUMA(B71;B72;B73;B74)/B75) | D76: 0.82980917 | E76: bez przedziału ufności

Sheet Opis
A1: Plik do wpisu: Analiza statystyczna w Excelu – co da się zrobić, a czego nie (metodolog.pl).
A2: Dane są symulowane (60 osób) i służą wyłącznie do ćwiczeń.
A4: Zmienne w arkuszu Dane:
A5: id – numer osoby; praca – praca zarobkowa (1 = tak, 0 = nie); sen_h – przeciętna liczba godzin snu;
A6: pomoc – korzystanie z pomocy psychologicznej w ostatnim roku (1 = tak, 0 = nie); str_1–str_4 – pozycje skali stresu (1–5);
A7: stres – średnia z 4 pozycji (formuła); ranga_sen, ranga_stres – rangi do korelacji Spearmana (formuły POZYCJA.ŚR).
A8: Wiersze są posortowane według zmiennej praca: 2–25 pracujący, 26–61 niepracujący (funkcja T.TEST potrzebuje dwóch zakresów).
A10: Arkusz Analizy: kolumna B liczy formułami, kolumna C pokazuje te same formuły w polskiej wersji Excela,
A11: a kolumna D – wyniki tej samej analizy z R. Różnice w dalszych miejscach po przecinku wynikają z zaokrągleń w wyświetlaniu.
A12: Wyniki oznaczone 'brak funkcji w Excelu' policzono tylko w R.
A14: Kolumna stres jest formułą, bo to plik analizy. W pliku z danymi surowymi trzymaj same odpowiedzi.
